BEGIN:VCALENDAR
VERSION:2.0
PRODID:-//Immanuel Community Church of Auckland - ECPv4.6.9//NONSGML v1.0//EN
CALSCALE:GREGORIAN
METHOD:PUBLISH
X-WR-CALNAME:Immanuel Community Church of Auckland
X-ORIGINAL-URL:https://immanuel.org.nz
X-WR-CALDESC:Events for Immanuel Community Church of Auckland
BEGIN:VEVENT
DTSTART;TZID=UTC+12:20170516T190000
DTEND;TZID=UTC+12:20170516T210000
DTSTAMP:20180122T075659
CREATED:20170221T084201Z
LAST-MODIFIED:20170511T040842Z
UID:13-1494961200-1494968400@immanuel.org.nz
SUMMARY:CodingLambs
DESCRIPTION:These events hope to connect Christian Designers\, programmers and Coders through working on projects that will impact lives for the good.   \nBeginners and Enthusiasts are welcome to come. You do not need to be extremely skillful. Our focus is more on Personal growth for each individual even though we would love to see these websites and applications been launched into the world！ \nFor more information visit https://www.meetup.com/Creatio-Auckland-Christian-Artists-Meetup/ \n
URL:https://immanuel.org.nz/index.php/event/codinglambs/
LOCATION:115 Khyber Pass Rd\, Grafton\, Auckland\, 1023\, New Zealand
END:VEVENT
END:VCALENDAR