BEGIN:VCALENDAR
VERSION:2.0
PRODID:-//Immanuel Community Church of Auckland - ECPv4.6.9//NONSGML v1.0//EN
CALSCALE:GREGORIAN
METHOD:PUBLISH
X-WR-CALNAME:Immanuel Community Church of Auckland
X-ORIGINAL-URL:https://immanuel.org.nz
X-WR-CALDESC:Events for Immanuel Community Church of Auckland
BEGIN:VEVENT
DTSTART;TZID=Pacific/Auckland:20170318T110000
DTEND;TZID=Pacific/Auckland:20170318T140000
DTSTAMP:20180122T075638
CREATED:20170302T082836Z
LAST-MODIFIED:20170302T082836Z
UID:171-1489834800-1489845600@immanuel.org.nz
SUMMARY:Creatio
DESCRIPTION:
URL:https://immanuel.org.nz/index.php/event/creatio-2/
LOCATION:115 Khyber Pass Rd\, Grafton\, Auckland\, 1023\, New Zealand
ORGANIZER;CN="Pastor%20Michael%20Lee":MAILTO:church@immanuel.org.nz
END:VEVENT
END:VCALENDAR