BEGIN:VCALENDAR
VERSION:2.0
PRODID:-//Immanuel Community Church of Auckland - ECPv4.6.9//NONSGML v1.0//EN
CALSCALE:GREGORIAN
METHOD:PUBLISH
X-WR-CALNAME:Immanuel Community Church of Auckland
X-ORIGINAL-URL:https://immanuel.org.nz
X-WR-CALDESC:Events for Immanuel Community Church of Auckland
BEGIN:VEVENT
DTSTART;TZID=Pacific/Auckland:20170309T190000
DTEND;TZID=Pacific/Auckland:20170309T210000
DTSTAMP:20180122T075736
CREATED:20170302T082828Z
LAST-MODIFIED:20170306T231729Z
UID:163-1489086000-1489093200@immanuel.org.nz
SUMMARY:Discipleship
DESCRIPTION:
URL:https://immanuel.org.nz/index.php/event/discipleship/
LOCATION:115 Khyber Pass Rd\, Grafton\, Auckland\, 1023\, New Zealand
ORGANIZER;CN="Pastor%20Michael%20Lee":MAILTO:church@immanuel.org.nz
END:VEVENT
END:VCALENDAR